BEGIN:VCALENDAR
VERSION:2.0
PRODID:-//Dagmar Wilgo - ECPv6.15.16//NONSGML v1.0//EN
CALSCALE:GREGORIAN
METHOD:PUBLISH
X-ORIGINAL-URL:https://dagmar-wilgo.de
X-WR-CALDESC:Veranstaltungen für Dagmar Wilgo
REFRESH-INTERVAL;VALUE=DURATION:PT1H
X-Robots-Tag:noindex
X-PUBLISHED-TTL:PT1H
BEGIN:VTIMEZONE
TZID:UTC
BEGIN:STANDARD
TZOFFSETFROM:+0000
TZOFFSETTO:+0000
TZNAME:UTC
DTSTART:20220101T000000
END:STANDARD
END:VTIMEZONE
BEGIN:VEVENT
DTSTART;TZID=UTC:20230826T213000
DTEND;TZID=UTC:20230826T230000
DTSTAMP:20260421T121633
CREATED:20230815T134639Z
LAST-MODIFIED:20230815T134639Z
UID:258-1693085400-1693090800@dagmar-wilgo.de
SUMMARY:DAS MODIFIZIERTE LABIUM
DESCRIPTION:Citykirche\, Mönchengladbach \nmit Andreas Kolinski (Live Electronics)\, Patrick Arnold (Visuals)
URL:https://dagmar-wilgo.de/event/das-modifizierte-labium/
END:VEVENT
END:VCALENDAR