BEGIN:VCALENDAR
VERSION:2.0
PRODID:-//Dagmar Wilgo - ECPv6.15.16//NONSGML v1.0//EN
CALSCALE:GREGORIAN
METHOD:PUBLISH
X-ORIGINAL-URL:https://dagmar-wilgo.de
X-WR-CALDESC:Veranstaltungen für Dagmar Wilgo
REFRESH-INTERVAL;VALUE=DURATION:PT1H
X-Robots-Tag:noindex
X-PUBLISHED-TTL:PT1H
BEGIN:VTIMEZONE
TZID:UTC
BEGIN:STANDARD
TZOFFSETFROM:+0000
TZOFFSETTO:+0000
TZNAME:UTC
DTSTART:20230101T000000
END:STANDARD
END:VTIMEZONE
BEGIN:VEVENT
DTSTART;TZID=UTC:20240118T190000
DTEND;TZID=UTC:20240118T203000
DTSTAMP:20260419T153840
CREATED:20240107T163855Z
LAST-MODIFIED:20240107T163855Z
UID:289-1705604400-1705609800@dagmar-wilgo.de
SUMMARY:Lesung mit musikalischer Begleitung
DESCRIPTION:im Rahmen von Horizonte – Erdung\, MuseumNetzwerkNiederrhein\nJ. Biesemans // mit Rita Mielke (Lesung)
URL:https://dagmar-wilgo.de/event/lesung-mit-musikalischer-begleitung/
LOCATION:Museum Burg Linn\, Albert-Steeger-Str. 5\, Krefeld\, NRW\, 478098
END:VEVENT
END:VCALENDAR