BEGIN:VCALENDAR
VERSION:2.0
PRODID:-//Dagmar Wilgo - ECPv6.15.16//NONSGML v1.0//EN
CALSCALE:GREGORIAN
METHOD:PUBLISH
X-WR-CALNAME:Dagmar Wilgo
X-ORIGINAL-URL:https://dagmar-wilgo.de
X-WR-CALDESC:Veranstaltungen für Dagmar Wilgo
REFRESH-INTERVAL;VALUE=DURATION:PT1H
X-Robots-Tag:noindex
X-PUBLISHED-TTL:PT1H
BEGIN:VTIMEZONE
TZID:UTC
BEGIN:STANDARD
TZOFFSETFROM:+0000
TZOFFSETTO:+0000
TZNAME:UTC
DTSTART:20220101T000000
END:STANDARD
END:VTIMEZONE
BEGIN:VEVENT
DTSTART;TZID=UTC:20231112T183000
DTEND;TZID=UTC:20231112T200000
DTSTAMP:20260419T185218
CREATED:20230815T135038Z
LAST-MODIFIED:20230815T135038Z
UID:268-1699813800-1699819200@dagmar-wilgo.de
SUMMARY:LICHT - KLANG - RAUM
DESCRIPTION:Christuskirche Neuss \nG. P. da Palestrina\, J. des Préz\, Th. Tallis u.a.\nmit dem Vokalensemble der Christuskirche Neuss\, Katja Ulges-Stein (Leitung)\,\nAndreas Kolinski (Live Electronics)\, Patrick Arnold (Visuals)
URL:https://dagmar-wilgo.de/event/licht-klang-raum/
END:VEVENT
END:VCALENDAR