BEGIN:VCALENDAR
VERSION:2.0
PRODID:-//Dagmar Wilgo - ECPv6.15.16//NONSGML v1.0//EN
CALSCALE:GREGORIAN
METHOD:PUBLISH
X-WR-CALNAME:Dagmar Wilgo
X-ORIGINAL-URL:https://dagmar-wilgo.de
X-WR-CALDESC:Veranstaltungen für Dagmar Wilgo
REFRESH-INTERVAL;VALUE=DURATION:PT1H
X-Robots-Tag:noindex
X-PUBLISHED-TTL:PT1H
BEGIN:VTIMEZONE
TZID:UTC
BEGIN:STANDARD
TZOFFSETFROM:+0000
TZOFFSETTO:+0000
TZNAME:UTC
DTSTART:20220101T000000
END:STANDARD
END:VTIMEZONE
BEGIN:VEVENT
DTSTART;TZID=UTC:20231009T200000
DTEND;TZID=UTC:20231009T220000
DTSTAMP:20260421T104427
CREATED:20230815T134847Z
LAST-MODIFIED:20230815T134847Z
UID:262-1696881600-1696888800@dagmar-wilgo.de
SUMMARY:kgnm.remote drei
DESCRIPTION:Concert Hall Lisinski\, Zagreb\, Kroatien \nM. Buchwald\, A. La Berge\, G. Heike u.a.\nmit kgnm flöten ensemble und Cantus Ansambl
URL:https://dagmar-wilgo.de/event/kgnm-remote-drei/
END:VEVENT
END:VCALENDAR